BEGIN:VCALENDAR
VERSION:2.0
PRODID:-//Squarespace Inc/Squarespace 6//v6//EN
BEGIN:VEVENT
UID:5f8e5c88dc353a0176eee1c6@squarespace.com
DTSTAMP:20201020T034227Z
DTSTART:20201119T010000Z
DTEND:20201119T014000Z
SUMMARY:Baby Beans - Newborns to Sitting Babies
END:VEVENT
END:VCALENDAR
