BEGIN:VCALENDAR
VERSION:2.0
PRODID:-//Squarespace Inc/Squarespace 6//v6//EN
BEGIN:VEVENT
UID:5f8e5ca842ce784d0cffd42e@squarespace.com
DTSTAMP:20201112T230236Z
DTSTART:20201126T010000Z
DTEND:20201126T014000Z
SUMMARY:Baby Beans - Newborns to Sitting Babies
END:VEVENT
END:VCALENDAR
