BEGIN:VCALENDAR
VERSION:2.0
PRODID:-//Squarespace Inc/Squarespace 6//v6//EN
BEGIN:VEVENT
UID:5f8e5cc85ae5f375b153ef33@squarespace.com
DTSTAMP:20201112T230529Z
DTSTART:20201203T010000Z
DTEND:20201203T014000Z
SUMMARY:Baby Beans - Newborns to Sitting Babies
END:VEVENT
END:VCALENDAR
