BEGIN:VCALENDAR
VERSION:2.0
PRODID:-//Squarespace Inc/Squarespace 6//v6//EN
BEGIN:VEVENT
UID:5f8e5ce91728ce53b95e3336@squarespace.com
DTSTAMP:20201112T230839Z
DTSTART:20201210T010000Z
DTEND:20201210T014000Z
SUMMARY:Baby Beans - Newborns to Sitting Babies
END:VEVENT
END:VCALENDAR
