BEGIN:VCALENDAR
VERSION:2.0
PRODID:-//Squarespace Inc/Squarespace 6//v6//EN
BEGIN:VEVENT
UID:5f8e5d0efba7b248648d8834@squarespace.com
DTSTAMP:20201112T231341Z
DTSTART:20201217T010000Z
DTEND:20201217T014000Z
SUMMARY:Baby Beans - Newborns to Sitting Babies
END:VEVENT
END:VCALENDAR
