BEGIN:VCALENDAR
VERSION:2.0
PRODID:-//Squarespace Inc/Squarespace 6//v6//EN
BEGIN:VEVENT
UID:5f8e5bb0c9e1691d59d8b584@squarespace.com
DTSTAMP:20201020T034014Z
DTSTART:20201028T230000Z
DTEND:20201028T234000Z
SUMMARY:Baby Beans - Newborns to Sitting Babies
END:VEVENT
END:VCALENDAR
