BEGIN:VCALENDAR
VERSION:2.0
PRODID:-//Squarespace Inc/Squarespace 6//v6//EN
BEGIN:VEVENT
UID:5f8e544dfba7b248648c726c@squarespace.com
DTSTAMP:20201020T030719Z
DTSTART:20201102T000000Z
DTEND:20201102T004000Z
SUMMARY:Baby Beans - Newborns to Sitting Babies
END:VEVENT
END:VCALENDAR
