BEGIN:VCALENDAR
VERSION:2.0
PRODID:-//Squarespace Inc/Squarespace 6//v6//EN
BEGIN:VEVENT
UID:5f8e54751728ce53b95d25f6@squarespace.com
DTSTAMP:20201020T030754Z
DTSTART:20201109T000000Z
DTEND:20201109T004000Z
SUMMARY:Baby Beans - Newborns to Sitting Babies
END:VEVENT
END:VCALENDAR
