BEGIN:VCALENDAR
VERSION:2.0
PRODID:-//Squarespace Inc/Squarespace 6//v6//EN
BEGIN:VEVENT
UID:5f8e549542ce784d0cfee51c@squarespace.com
DTSTAMP:20201020T030832Z
DTSTART:20201116T000000Z
DTEND:20201116T004000Z
SUMMARY:Baby Beans - Newborns to Sitting Babies
END:VEVENT
END:VCALENDAR
