BEGIN:VCALENDAR
VERSION:2.0
PRODID:-//Squarespace Inc/Squarespace 6//v6//EN
BEGIN:VEVENT
UID:5f8e54b50d07d02227e94f81@squarespace.com
DTSTAMP:20201112T230033Z
DTSTART:20201122T230000Z
DTEND:20201122T234000Z
SUMMARY:Baby Beans - Newborns to Sitting Babies
END:VEVENT
END:VCALENDAR
