BEGIN:VCALENDAR
VERSION:2.0
PRODID:-//Squarespace Inc/Squarespace 6//v6//EN
BEGIN:VEVENT
UID:5f8e54d3e6ed3f10a1a9517a@squarespace.com
DTSTAMP:20201112T230333Z
DTSTART:20201129T230000Z
DTEND:20201129T234000Z
SUMMARY:Baby Beans - Newborns to Sitting Babies
END:VEVENT
END:VCALENDAR
