BEGIN:VCALENDAR
VERSION:2.0
PRODID:-//Squarespace Inc/Squarespace 6//v6//EN
BEGIN:VEVENT
UID:5f8e54efb147026218fe5beb@squarespace.com
DTSTAMP:20201112T230635Z
DTSTART:20201206T230000Z
DTEND:20201206T234000Z
SUMMARY:Baby Beans - Newborns to Sitting Babies
END:VEVENT
END:VCALENDAR
