BEGIN:VCALENDAR
VERSION:2.0
PRODID:-//Squarespace Inc/Squarespace 6//v6//EN
BEGIN:VEVENT
UID:5f8e5510c9e1691d59d7e62b@squarespace.com
DTSTAMP:20201112T230945Z
DTSTART:20201213T230000Z
DTEND:20201213T234000Z
SUMMARY:Baby Beans - Newborns to Sitting Babies
END:VEVENT
END:VCALENDAR
