BEGIN:VCALENDAR
VERSION:2.0
PRODID:-//Squarespace Inc/Squarespace 6//v6//EN
BEGIN:VEVENT
UID:5f88a218e889355b3d2be36c@squarespace.com
DTSTAMP:20201015T192737Z
DTSTART:20201019T010000Z
DTEND:20201019T015000Z
SUMMARY:Baby Beans - Newborns to Sitting Babies
END:VEVENT
END:VCALENDAR
