BEGIN:VCALENDAR
VERSION:2.0
PRODID:-//Squarespace Inc/Squarespace 6//v6//EN
BEGIN:VEVENT
UID:5f88a2ad3a81ee6f9d4f0f3f@squarespace.com
DTSTAMP:20201015T192802Z
DTSTART:20201019T000000Z
DTEND:20201019T005000Z
SUMMARY:Baby Beans - Newborns to Sitting Babies
END:VEVENT
END:VCALENDAR
